BEGIN:VCALENDAR
VERSION:2.0
PRODID:-//Week Of Prayer - ECPv6.0.13//NONSGML v1.0//EN
CALSCALE:GREGORIAN
METHOD:PUBLISH
X-ORIGINAL-URL:https://www.naweekofprayer.com
X-WR-CALDESC:Events for Week Of Prayer
REFRESH-INTERVAL;VALUE=DURATION:PT1H
X-Robots-Tag:noindex
X-PUBLISHED-TTL:PT1H
BEGIN:VTIMEZONE
TZID:America/Toronto
BEGIN:DAYLIGHT
TZOFFSETFROM:-0500
TZOFFSETTO:-0400
TZNAME:Eastern Daylight Time (EDT)
DTSTART:20220313T070000
END:DAYLIGHT
BEGIN:STANDARD
TZOFFSETFROM:-0400
TZOFFSETTO:-0500
TZNAME:EST
DTSTART:20221106T060000
END:STANDARD
BEGIN:DAYLIGHT
TZOFFSETFROM:-0500
TZOFFSETTO:-0400
TZNAME:Eastern Daylight Time (EDT)
DTSTART:20230312T070000
END:DAYLIGHT
BEGIN:STANDARD
TZOFFSETFROM:-0400
TZOFFSETTO:-0500
TZNAME:EST
DTSTART:20231105T060000
END:STANDARD
BEGIN:DAYLIGHT
TZOFFSETFROM:-0500
TZOFFSETTO:-0400
TZNAME:Eastern Daylight Time (EDT)
DTSTART:20240310T070000
END:DAYLIGHT
BEGIN:STANDARD
TZOFFSETFROM:-0400
TZOFFSETTO:-0500
TZNAME:EST
DTSTART:20241103T060000
END:STANDARD
BEGIN:DAYLIGHT
TZOFFSETFROM:-0500
TZOFFSETTO:-0400
TZNAME:Eastern Daylight Time (EDT)
DTSTART:20250309T070000
END:DAYLIGHT
BEGIN:STANDARD
TZOFFSETFROM:-0400
TZOFFSETTO:-0500
TZNAME:EST
DTSTART:20251102T060000
END:STANDARD
END:VTIMEZONE
BEGIN:VEVENT
DTSTART;TZID=America/Toronto:20250314T090000
DTEND;TZID=America/Toronto:20250314T110000
DTSTAMP:20260421T095536
CREATED:20200504T194032Z
LAST-MODIFIED:20200504T194032Z
UID:4940-1741942800-1741950000@www.naweekofprayer.com
SUMMARY:CMML - Men's Prayer Meeting hosted by Craig Fritchey
DESCRIPTION:Craig Fritchey hosting – Missions\, Evangelism\, Discipleship\, Church-Planting.  Please sign up to pray at: www.CMML.us/prayon2020
URL:https://www.naweekofprayer.com/event/cmml-mens-prayer-meeting-2/2025-03-14/
CATEGORIES:EST,Men's Meetings
ORGANIZER;CN="Craig%20Fritchey":MAILTO:ccfritchey@cmml.us
END:VEVENT
BEGIN:VEVENT
DTSTART;TZID=America/Toronto:20250314T090000
DTEND;TZID=America/Toronto:20250314T110000
DTSTAMP:20260421T095536
CREATED:20200418T003601Z
LAST-MODIFIED:20200418T003601Z
UID:4948-1741942800-1741950000@www.naweekofprayer.com
SUMMARY:CMML Women's Prayer Meeting - Hosted by Mary Parsons
DESCRIPTION:www.CMML.us/pray2020 to register
URL:https://www.naweekofprayer.com/event/cmml-womens-prayer-meeting/2025-03-14/
CATEGORIES:EST,Women's Meetings
ORGANIZER;CN="Craig%20Fritchey":MAILTO:ccfritchey@cmml.us
END:VEVENT
BEGIN:VEVENT
DTSTART;TZID=America/Toronto:20250228T090000
DTEND;TZID=America/Toronto:20250228T110000
DTSTAMP:20260421T095536
CREATED:20200504T194032Z
LAST-MODIFIED:20200504T194032Z
UID:4943-1740733200-1740740400@www.naweekofprayer.com
SUMMARY:CMML - Men's Prayer Meeting hosted by Craig Fritchey
DESCRIPTION:Craig Fritchey hosting – Missions\, Evangelism\, Discipleship\, Church-Planting.  Please sign up to pray at: www.CMML.us/prayon2020
URL:https://www.naweekofprayer.com/event/cmml-mens-prayer-meeting-2/2025-02-28/
CATEGORIES:EST,Men's Meetings
ORGANIZER;CN="Craig%20Fritchey":MAILTO:ccfritchey@cmml.us
END:VEVENT
BEGIN:VEVENT
DTSTART;TZID=America/Toronto:20250228T090000
DTEND;TZID=America/Toronto:20250228T110000
DTSTAMP:20260421T095536
CREATED:20200418T003601Z
LAST-MODIFIED:20200418T003601Z
UID:4951-1740733200-1740740400@www.naweekofprayer.com
SUMMARY:CMML Women's Prayer Meeting - Hosted by Mary Parsons
DESCRIPTION:www.CMML.us/pray2020 to register
URL:https://www.naweekofprayer.com/event/cmml-womens-prayer-meeting/2025-02-28/
CATEGORIES:EST,Women's Meetings
ORGANIZER;CN="Craig%20Fritchey":MAILTO:ccfritchey@cmml.us
END:VEVENT
BEGIN:VEVENT
DTSTART;TZID=America/Toronto:20250214T090000
DTEND;TZID=America/Toronto:20250214T110000
DTSTAMP:20260421T095536
CREATED:20200504T194032Z
LAST-MODIFIED:20200504T194032Z
UID:4939-1739523600-1739530800@www.naweekofprayer.com
SUMMARY:CMML - Men's Prayer Meeting hosted by Craig Fritchey
DESCRIPTION:Craig Fritchey hosting – Missions\, Evangelism\, Discipleship\, Church-Planting.  Please sign up to pray at: www.CMML.us/prayon2020
URL:https://www.naweekofprayer.com/event/cmml-mens-prayer-meeting-2/2025-02-14/
CATEGORIES:EST,Men's Meetings
ORGANIZER;CN="Craig%20Fritchey":MAILTO:ccfritchey@cmml.us
END:VEVENT
BEGIN:VEVENT
DTSTART;TZID=America/Toronto:20250214T090000
DTEND;TZID=America/Toronto:20250214T110000
DTSTAMP:20260421T095536
CREATED:20200418T003601Z
LAST-MODIFIED:20200418T003601Z
UID:4947-1739523600-1739530800@www.naweekofprayer.com
SUMMARY:CMML Women's Prayer Meeting - Hosted by Mary Parsons
DESCRIPTION:www.CMML.us/pray2020 to register
URL:https://www.naweekofprayer.com/event/cmml-womens-prayer-meeting/2025-02-14/
CATEGORIES:EST,Women's Meetings
ORGANIZER;CN="Craig%20Fritchey":MAILTO:ccfritchey@cmml.us
END:VEVENT
BEGIN:VEVENT
DTSTART;TZID=America/Toronto:20250124T090000
DTEND;TZID=America/Toronto:20250124T110000
DTSTAMP:20260421T095536
CREATED:20200504T194032Z
LAST-MODIFIED:20200504T194032Z
UID:4942-1737709200-1737716400@www.naweekofprayer.com
SUMMARY:CMML - Men's Prayer Meeting hosted by Craig Fritchey
DESCRIPTION:Craig Fritchey hosting – Missions\, Evangelism\, Discipleship\, Church-Planting.  Please sign up to pray at: www.CMML.us/prayon2020
URL:https://www.naweekofprayer.com/event/cmml-mens-prayer-meeting-2/2025-01-24/
CATEGORIES:EST,Men's Meetings
ORGANIZER;CN="Craig%20Fritchey":MAILTO:ccfritchey@cmml.us
END:VEVENT
BEGIN:VEVENT
DTSTART;TZID=America/Toronto:20250124T090000
DTEND;TZID=America/Toronto:20250124T110000
DTSTAMP:20260421T095536
CREATED:20200418T003601Z
LAST-MODIFIED:20200418T003601Z
UID:4950-1737709200-1737716400@www.naweekofprayer.com
SUMMARY:CMML Women's Prayer Meeting - Hosted by Mary Parsons
DESCRIPTION:www.CMML.us/pray2020 to register
URL:https://www.naweekofprayer.com/event/cmml-womens-prayer-meeting/2025-01-24/
CATEGORIES:EST,Women's Meetings
ORGANIZER;CN="Craig%20Fritchey":MAILTO:ccfritchey@cmml.us
END:VEVENT
BEGIN:VEVENT
DTSTART;TZID=America/Toronto:20250110T090000
DTEND;TZID=America/Toronto:20250110T110000
DTSTAMP:20260421T095536
CREATED:20200504T194032Z
LAST-MODIFIED:20200504T194032Z
UID:4938-1736499600-1736506800@www.naweekofprayer.com
SUMMARY:CMML - Men's Prayer Meeting hosted by Craig Fritchey
DESCRIPTION:Craig Fritchey hosting – Missions\, Evangelism\, Discipleship\, Church-Planting.  Please sign up to pray at: www.CMML.us/prayon2020
URL:https://www.naweekofprayer.com/event/cmml-mens-prayer-meeting-2/2025-01-10/
CATEGORIES:EST,Men's Meetings
ORGANIZER;CN="Craig%20Fritchey":MAILTO:ccfritchey@cmml.us
END:VEVENT
BEGIN:VEVENT
DTSTART;TZID=America/Toronto:20250110T090000
DTEND;TZID=America/Toronto:20250110T110000
DTSTAMP:20260421T095536
CREATED:20200418T003601Z
LAST-MODIFIED:20200418T003601Z
UID:4946-1736499600-1736506800@www.naweekofprayer.com
SUMMARY:CMML Women's Prayer Meeting - Hosted by Mary Parsons
DESCRIPTION:www.CMML.us/pray2020 to register
URL:https://www.naweekofprayer.com/event/cmml-womens-prayer-meeting/2025-01-10/
CATEGORIES:EST,Women's Meetings
ORGANIZER;CN="Craig%20Fritchey":MAILTO:ccfritchey@cmml.us
END:VEVENT
BEGIN:VEVENT
DTSTART;TZID=America/Toronto:20241227T090000
DTEND;TZID=America/Toronto:20241227T110000
DTSTAMP:20260421T095536
CREATED:20200504T194032Z
LAST-MODIFIED:20200504T194032Z
UID:4941-1735290000-1735297200@www.naweekofprayer.com
SUMMARY:CMML - Men's Prayer Meeting hosted by Craig Fritchey
DESCRIPTION:Craig Fritchey hosting – Missions\, Evangelism\, Discipleship\, Church-Planting.  Please sign up to pray at: www.CMML.us/prayon2020
URL:https://www.naweekofprayer.com/event/cmml-mens-prayer-meeting-2/2024-12-27/
CATEGORIES:EST,Men's Meetings
ORGANIZER;CN="Craig%20Fritchey":MAILTO:ccfritchey@cmml.us
END:VEVENT
BEGIN:VEVENT
DTSTART;TZID=America/Toronto:20241227T090000
DTEND;TZID=America/Toronto:20241227T110000
DTSTAMP:20260421T095536
CREATED:20200418T003601Z
LAST-MODIFIED:20200418T003601Z
UID:4949-1735290000-1735297200@www.naweekofprayer.com
SUMMARY:CMML Women's Prayer Meeting - Hosted by Mary Parsons
DESCRIPTION:www.CMML.us/pray2020 to register
URL:https://www.naweekofprayer.com/event/cmml-womens-prayer-meeting/2024-12-27/
CATEGORIES:EST,Women's Meetings
ORGANIZER;CN="Craig%20Fritchey":MAILTO:ccfritchey@cmml.us
END:VEVENT
BEGIN:VEVENT
DTSTART;TZID=America/Toronto:20241213T090000
DTEND;TZID=America/Toronto:20241213T110000
DTSTAMP:20260421T095536
CREATED:20200504T194032Z
LAST-MODIFIED:20200504T194032Z
UID:4937-1734080400-1734087600@www.naweekofprayer.com
SUMMARY:CMML - Men's Prayer Meeting hosted by Craig Fritchey
DESCRIPTION:Craig Fritchey hosting – Missions\, Evangelism\, Discipleship\, Church-Planting.  Please sign up to pray at: www.CMML.us/prayon2020
URL:https://www.naweekofprayer.com/event/cmml-mens-prayer-meeting-2/2024-12-13/
CATEGORIES:EST,Men's Meetings
ORGANIZER;CN="Craig%20Fritchey":MAILTO:ccfritchey@cmml.us
END:VEVENT
BEGIN:VEVENT
DTSTART;TZID=America/Toronto:20241213T090000
DTEND;TZID=America/Toronto:20241213T110000
DTSTAMP:20260421T095536
CREATED:20200418T003601Z
LAST-MODIFIED:20200418T003601Z
UID:4945-1734080400-1734087600@www.naweekofprayer.com
SUMMARY:CMML Women's Prayer Meeting - Hosted by Mary Parsons
DESCRIPTION:www.CMML.us/pray2020 to register
URL:https://www.naweekofprayer.com/event/cmml-womens-prayer-meeting/2024-12-13/
CATEGORIES:EST,Women's Meetings
ORGANIZER;CN="Craig%20Fritchey":MAILTO:ccfritchey@cmml.us
END:VEVENT
BEGIN:VEVENT
DTSTART;TZID=America/Toronto:20241108T090000
DTEND;TZID=America/Toronto:20241108T110000
DTSTAMP:20260421T095536
CREATED:20200504T194032Z
LAST-MODIFIED:20200504T194032Z
UID:4817-1731056400-1731063600@www.naweekofprayer.com
SUMMARY:CMML - Men's Prayer Meeting hosted by Craig Fritchey
DESCRIPTION:Craig Fritchey hosting – Missions\, Evangelism\, Discipleship\, Church-Planting.  Please sign up to pray at: www.CMML.us/prayon2020
URL:https://www.naweekofprayer.com/event/cmml-mens-prayer-meeting-2/2024-11-08/
CATEGORIES:EST,Men's Meetings
ORGANIZER;CN="Craig%20Fritchey":MAILTO:ccfritchey@cmml.us
END:VEVENT
BEGIN:VEVENT
DTSTART;TZID=America/Toronto:20241108T090000
DTEND;TZID=America/Toronto:20241108T110000
DTSTAMP:20260421T095536
CREATED:20200418T003601Z
LAST-MODIFIED:20200418T003601Z
UID:4818-1731056400-1731063600@www.naweekofprayer.com
SUMMARY:CMML Women's Prayer Meeting - Hosted by Mary Parsons
DESCRIPTION:www.CMML.us/pray2020 to register
URL:https://www.naweekofprayer.com/event/cmml-womens-prayer-meeting/2024-11-08/
CATEGORIES:EST,Women's Meetings
ORGANIZER;CN="Craig%20Fritchey":MAILTO:ccfritchey@cmml.us
END:VEVENT
BEGIN:VEVENT
DTSTART;TZID=America/Toronto:20241011T090000
DTEND;TZID=America/Toronto:20241011T110000
DTSTAMP:20260421T095536
CREATED:20200504T194032Z
LAST-MODIFIED:20200504T194032Z
UID:4807-1728637200-1728644400@www.naweekofprayer.com
SUMMARY:CMML - Men's Prayer Meeting hosted by Craig Fritchey
DESCRIPTION:Craig Fritchey hosting – Missions\, Evangelism\, Discipleship\, Church-Planting.  Please sign up to pray at: www.CMML.us/prayon2020
URL:https://www.naweekofprayer.com/event/cmml-mens-prayer-meeting-2/2024-10-11/
CATEGORIES:EST,Men's Meetings
ORGANIZER;CN="Craig%20Fritchey":MAILTO:ccfritchey@cmml.us
END:VEVENT
BEGIN:VEVENT
DTSTART;TZID=America/Toronto:20241011T090000
DTEND;TZID=America/Toronto:20241011T110000
DTSTAMP:20260421T095536
CREATED:20200418T003601Z
LAST-MODIFIED:20200418T003601Z
UID:4808-1728637200-1728644400@www.naweekofprayer.com
SUMMARY:CMML Women's Prayer Meeting - Hosted by Mary Parsons
DESCRIPTION:www.CMML.us/pray2020 to register
URL:https://www.naweekofprayer.com/event/cmml-womens-prayer-meeting/2024-10-11/
CATEGORIES:EST,Women's Meetings
ORGANIZER;CN="Craig%20Fritchey":MAILTO:ccfritchey@cmml.us
END:VEVENT
BEGIN:VEVENT
DTSTART;TZID=America/Toronto:20240913T090000
DTEND;TZID=America/Toronto:20240913T110000
DTSTAMP:20260421T095536
CREATED:20200504T194032Z
LAST-MODIFIED:20200504T194032Z
UID:4805-1726218000-1726225200@www.naweekofprayer.com
SUMMARY:CMML - Men's Prayer Meeting hosted by Craig Fritchey
DESCRIPTION:Craig Fritchey hosting – Missions\, Evangelism\, Discipleship\, Church-Planting.  Please sign up to pray at: www.CMML.us/prayon2020
URL:https://www.naweekofprayer.com/event/cmml-mens-prayer-meeting-2/2024-09-13/
CATEGORIES:EST,Men's Meetings
ORGANIZER;CN="Craig%20Fritchey":MAILTO:ccfritchey@cmml.us
END:VEVENT
BEGIN:VEVENT
DTSTART;TZID=America/Toronto:20240913T090000
DTEND;TZID=America/Toronto:20240913T110000
DTSTAMP:20260421T095536
CREATED:20200418T003601Z
LAST-MODIFIED:20200418T003601Z
UID:4806-1726218000-1726225200@www.naweekofprayer.com
SUMMARY:CMML Women's Prayer Meeting - Hosted by Mary Parsons
DESCRIPTION:www.CMML.us/pray2020 to register
URL:https://www.naweekofprayer.com/event/cmml-womens-prayer-meeting/2024-09-13/
CATEGORIES:EST,Women's Meetings
ORGANIZER;CN="Craig%20Fritchey":MAILTO:ccfritchey@cmml.us
END:VEVENT
BEGIN:VEVENT
DTSTART;TZID=America/Toronto:20240809T090000
DTEND;TZID=America/Toronto:20240809T110000
DTSTAMP:20260421T095536
CREATED:20200504T194032Z
LAST-MODIFIED:20200504T194032Z
UID:4785-1723194000-1723201200@www.naweekofprayer.com
SUMMARY:CMML - Men's Prayer Meeting hosted by Craig Fritchey
DESCRIPTION:Craig Fritchey hosting – Missions\, Evangelism\, Discipleship\, Church-Planting.  Please sign up to pray at: www.CMML.us/prayon2020
URL:https://www.naweekofprayer.com/event/cmml-mens-prayer-meeting-2/2024-08-09/
CATEGORIES:EST,Men's Meetings
ORGANIZER;CN="Craig%20Fritchey":MAILTO:ccfritchey@cmml.us
END:VEVENT
BEGIN:VEVENT
DTSTART;TZID=America/Toronto:20240809T090000
DTEND;TZID=America/Toronto:20240809T110000
DTSTAMP:20260421T095536
CREATED:20200418T003601Z
LAST-MODIFIED:20200418T003601Z
UID:4786-1723194000-1723201200@www.naweekofprayer.com
SUMMARY:CMML Women's Prayer Meeting - Hosted by Mary Parsons
DESCRIPTION:www.CMML.us/pray2020 to register
URL:https://www.naweekofprayer.com/event/cmml-womens-prayer-meeting/2024-08-09/
CATEGORIES:EST,Women's Meetings
ORGANIZER;CN="Craig%20Fritchey":MAILTO:ccfritchey@cmml.us
END:VEVENT
BEGIN:VEVENT
DTSTART;TZID=America/Toronto:20240712T090000
DTEND;TZID=America/Toronto:20240712T110000
DTSTAMP:20260421T095536
CREATED:20200504T194032Z
LAST-MODIFIED:20200504T194032Z
UID:4783-1720774800-1720782000@www.naweekofprayer.com
SUMMARY:CMML - Men's Prayer Meeting hosted by Craig Fritchey
DESCRIPTION:Craig Fritchey hosting – Missions\, Evangelism\, Discipleship\, Church-Planting.  Please sign up to pray at: www.CMML.us/prayon2020
URL:https://www.naweekofprayer.com/event/cmml-mens-prayer-meeting-2/2024-07-12/
CATEGORIES:EST,Men's Meetings
ORGANIZER;CN="Craig%20Fritchey":MAILTO:ccfritchey@cmml.us
END:VEVENT
BEGIN:VEVENT
DTSTART;TZID=America/Toronto:20240712T090000
DTEND;TZID=America/Toronto:20240712T110000
DTSTAMP:20260421T095536
CREATED:20200418T003601Z
LAST-MODIFIED:20200418T003601Z
UID:4784-1720774800-1720782000@www.naweekofprayer.com
SUMMARY:CMML Women's Prayer Meeting - Hosted by Mary Parsons
DESCRIPTION:www.CMML.us/pray2020 to register
URL:https://www.naweekofprayer.com/event/cmml-womens-prayer-meeting/2024-07-12/
CATEGORIES:EST,Women's Meetings
ORGANIZER;CN="Craig%20Fritchey":MAILTO:ccfritchey@cmml.us
END:VEVENT
BEGIN:VEVENT
DTSTART;TZID=America/Toronto:20240614T090000
DTEND;TZID=America/Toronto:20240614T110000
DTSTAMP:20260421T095536
CREATED:20200504T194032Z
LAST-MODIFIED:20200504T194032Z
UID:4781-1718355600-1718362800@www.naweekofprayer.com
SUMMARY:CMML - Men's Prayer Meeting hosted by Craig Fritchey
DESCRIPTION:Craig Fritchey hosting – Missions\, Evangelism\, Discipleship\, Church-Planting.  Please sign up to pray at: www.CMML.us/prayon2020
URL:https://www.naweekofprayer.com/event/cmml-mens-prayer-meeting-2/2024-06-14/
CATEGORIES:EST,Men's Meetings
ORGANIZER;CN="Craig%20Fritchey":MAILTO:ccfritchey@cmml.us
END:VEVENT
BEGIN:VEVENT
DTSTART;TZID=America/Toronto:20240614T090000
DTEND;TZID=America/Toronto:20240614T110000
DTSTAMP:20260421T095536
CREATED:20200418T003601Z
LAST-MODIFIED:20200418T003601Z
UID:4782-1718355600-1718362800@www.naweekofprayer.com
SUMMARY:CMML Women's Prayer Meeting - Hosted by Mary Parsons
DESCRIPTION:www.CMML.us/pray2020 to register
URL:https://www.naweekofprayer.com/event/cmml-womens-prayer-meeting/2024-06-14/
CATEGORIES:EST,Women's Meetings
ORGANIZER;CN="Craig%20Fritchey":MAILTO:ccfritchey@cmml.us
END:VEVENT
BEGIN:VEVENT
DTSTART;TZID=America/Toronto:20240510T090000
DTEND;TZID=America/Toronto:20240510T110000
DTSTAMP:20260421T095536
CREATED:20200504T194032Z
LAST-MODIFIED:20200504T194032Z
UID:4779-1715331600-1715338800@www.naweekofprayer.com
SUMMARY:CMML - Men's Prayer Meeting hosted by Craig Fritchey
DESCRIPTION:Craig Fritchey hosting – Missions\, Evangelism\, Discipleship\, Church-Planting.  Please sign up to pray at: www.CMML.us/prayon2020
URL:https://www.naweekofprayer.com/event/cmml-mens-prayer-meeting-2/2024-05-10/
CATEGORIES:EST,Men's Meetings
ORGANIZER;CN="Craig%20Fritchey":MAILTO:ccfritchey@cmml.us
END:VEVENT
BEGIN:VEVENT
DTSTART;TZID=America/Toronto:20240510T090000
DTEND;TZID=America/Toronto:20240510T110000
DTSTAMP:20260421T095536
CREATED:20200418T003601Z
LAST-MODIFIED:20200418T003601Z
UID:4780-1715331600-1715338800@www.naweekofprayer.com
SUMMARY:CMML Women's Prayer Meeting - Hosted by Mary Parsons
DESCRIPTION:www.CMML.us/pray2020 to register
URL:https://www.naweekofprayer.com/event/cmml-womens-prayer-meeting/2024-05-10/
CATEGORIES:EST,Women's Meetings
ORGANIZER;CN="Craig%20Fritchey":MAILTO:ccfritchey@cmml.us
END:VEVENT
BEGIN:VEVENT
DTSTART;TZID=America/Toronto:20220426T093000
DTEND;TZID=America/Toronto:20220426T113000
DTSTAMP:20260421T095536
CREATED:20220305T003829Z
LAST-MODIFIED:20220305T013442Z
UID:4316-1650965400-1650972600@www.naweekofprayer.com
SUMMARY:CMML Women's Prayer Meeting
DESCRIPTION:CMML is excited to again join the North American Week of Prayer.” Each day\, from April 26 to 29\, CMML will host two online Zoom prayer meetings\, one for men and one for women\, from 9:30 to 11:30 a.m. Eastern Daylight Time (EDT). We invite missionaries and friends of CMML alike to join us in prayer as we seek the Lord together for North America. We will begin each session by watching the daily exhortation videos sent out by the Week of Prayer committee and then pray together in accordance with the themes set in the message.
URL:https://www.naweekofprayer.com/event/cmml-womens-prayer-meeting-3/2022-04-26/
CATEGORIES:EST,Women's Meetings
ORGANIZER;CN="Craig%20Fritchey":MAILTO:ccfritchey@cmml.us
END:VEVENT
BEGIN:VEVENT
DTSTART;TZID=America/Toronto:20220426T093000
DTEND;TZID=America/Toronto:20220426T113000
DTSTAMP:20260421T095536
CREATED:20220305T003719Z
LAST-MODIFIED:20220305T003926Z
UID:4311-1650965400-1650972600@www.naweekofprayer.com
SUMMARY:CMML Men's Prayer Meeting
DESCRIPTION:CMML is excited to again join the North American Week of Prayer.” Each day\, from April 26 to 29\, CMML will host two online Zoom prayer meetings\, one for men and one for women\, from 9:30 to 11:30 a.m. Eastern Daylight Time (EDT). We invite missionaries and friends of CMML alike to join us in prayer as we seek the Lord together for North America. We will begin each session by watching the daily exhortation videos sent out by the Week of Prayer committee and then pray together in accordance with the themes set in the message.
URL:https://www.naweekofprayer.com/event/cmml-mens-prayer-meeting-3/2022-04-26/
CATEGORIES:EST,Men's Meetings
ORGANIZER;CN="Craig%20Fritchey":MAILTO:ccfritchey@cmml.us
END:VEVENT
END:VCALENDAR