BEGIN:VCALENDAR
VERSION:2.0
PRODID:-//Week Of Prayer - ECPv6.0.13//NONSGML v1.0//EN
CALSCALE:GREGORIAN
METHOD:PUBLISH
X-WR-CALNAME:Week Of Prayer
X-ORIGINAL-URL:https://www.naweekofprayer.com
X-WR-CALDESC:Events for Week Of Prayer
REFRESH-INTERVAL;VALUE=DURATION:PT1H
X-Robots-Tag:noindex
X-PUBLISHED-TTL:PT1H
BEGIN:VTIMEZONE
TZID:America/Toronto
BEGIN:DAYLIGHT
TZOFFSETFROM:-0500
TZOFFSETTO:-0400
TZNAME:Eastern Daylight Time (EDT)
DTSTART:20240310T070000
END:DAYLIGHT
BEGIN:STANDARD
TZOFFSETFROM:-0400
TZOFFSETTO:-0500
TZNAME:EST
DTSTART:20241103T060000
END:STANDARD
BEGIN:DAYLIGHT
TZOFFSETFROM:-0500
TZOFFSETTO:-0400
TZNAME:Eastern Daylight Time (EDT)
DTSTART:20250309T070000
END:DAYLIGHT
BEGIN:STANDARD
TZOFFSETFROM:-0400
TZOFFSETTO:-0500
TZNAME:EST
DTSTART:20251102T060000
END:STANDARD
TZID:America/Chicago
BEGIN:DAYLIGHT
TZOFFSETFROM:-0600
TZOFFSETTO:-0500
TZNAME:Central Daylight Time (CDT)
DTSTART:20230312T080000
END:DAYLIGHT
BEGIN:STANDARD
TZOFFSETFROM:-0500
TZOFFSETTO:-0600
TZNAME:CST
DTSTART:20231105T070000
END:STANDARD
END:VTIMEZONE
BEGIN:VEVENT
DTSTART;TZID=America/Toronto:20250926T090000
DTEND;TZID=America/Toronto:20250926T110000
DTSTAMP:20260421T055850
CREATED:20200504T194032Z
LAST-MODIFIED:20200504T194032Z
UID:5025-1758877200-1758884400@www.naweekofprayer.com
SUMMARY:CMML - Men's Prayer Meeting hosted by Craig Fritchey
DESCRIPTION:Craig Fritchey hosting – Missions\, Evangelism\, Discipleship\, Church-Planting.  Please sign up to pray at: www.CMML.us/prayon2020
URL:https://www.naweekofprayer.com/event/cmml-mens-prayer-meeting-2/2025-09-26/
CATEGORIES:EST,Men's Meetings
ORGANIZER;CN="Craig%20Fritchey":MAILTO:ccfritchey@cmml.us
END:VEVENT
BEGIN:VEVENT
DTSTART;TZID=America/Toronto:20250912T090000
DTEND;TZID=America/Toronto:20250912T110000
DTSTAMP:20260421T055850
CREATED:20200504T194032Z
LAST-MODIFIED:20200504T194032Z
UID:5020-1757667600-1757674800@www.naweekofprayer.com
SUMMARY:CMML - Men's Prayer Meeting hosted by Craig Fritchey
DESCRIPTION:Craig Fritchey hosting – Missions\, Evangelism\, Discipleship\, Church-Planting.  Please sign up to pray at: www.CMML.us/prayon2020
URL:https://www.naweekofprayer.com/event/cmml-mens-prayer-meeting-2/2025-09-12/
CATEGORIES:EST,Men's Meetings
ORGANIZER;CN="Craig%20Fritchey":MAILTO:ccfritchey@cmml.us
END:VEVENT
BEGIN:VEVENT
DTSTART;TZID=America/Toronto:20250822T090000
DTEND;TZID=America/Toronto:20250822T110000
DTSTAMP:20260421T055850
CREATED:20200504T194032Z
LAST-MODIFIED:20200504T194032Z
UID:5021-1755853200-1755860400@www.naweekofprayer.com
SUMMARY:CMML - Men's Prayer Meeting hosted by Craig Fritchey
DESCRIPTION:Craig Fritchey hosting – Missions\, Evangelism\, Discipleship\, Church-Planting.  Please sign up to pray at: www.CMML.us/prayon2020
URL:https://www.naweekofprayer.com/event/cmml-mens-prayer-meeting-2/2025-08-22/
CATEGORIES:EST,Men's Meetings
ORGANIZER;CN="Craig%20Fritchey":MAILTO:ccfritchey@cmml.us
END:VEVENT
BEGIN:VEVENT
DTSTART;TZID=America/Toronto:20250808T090000
DTEND;TZID=America/Toronto:20250808T110000
DTSTAMP:20260421T055850
CREATED:20200504T194032Z
LAST-MODIFIED:20200504T194032Z
UID:5015-1754643600-1754650800@www.naweekofprayer.com
SUMMARY:CMML - Men's Prayer Meeting hosted by Craig Fritchey
DESCRIPTION:Craig Fritchey hosting – Missions\, Evangelism\, Discipleship\, Church-Planting.  Please sign up to pray at: www.CMML.us/prayon2020
URL:https://www.naweekofprayer.com/event/cmml-mens-prayer-meeting-2/2025-08-08/
CATEGORIES:EST,Men's Meetings
ORGANIZER;CN="Craig%20Fritchey":MAILTO:ccfritchey@cmml.us
END:VEVENT
BEGIN:VEVENT
DTSTART;TZID=America/Toronto:20250725T090000
DTEND;TZID=America/Toronto:20250725T110000
DTSTAMP:20260421T055850
CREATED:20200504T194032Z
LAST-MODIFIED:20200504T194032Z
UID:5016-1753434000-1753441200@www.naweekofprayer.com
SUMMARY:CMML - Men's Prayer Meeting hosted by Craig Fritchey
DESCRIPTION:Craig Fritchey hosting – Missions\, Evangelism\, Discipleship\, Church-Planting.  Please sign up to pray at: www.CMML.us/prayon2020
URL:https://www.naweekofprayer.com/event/cmml-mens-prayer-meeting-2/2025-07-25/
CATEGORIES:EST,Men's Meetings
ORGANIZER;CN="Craig%20Fritchey":MAILTO:ccfritchey@cmml.us
END:VEVENT
BEGIN:VEVENT
DTSTART;TZID=America/Toronto:20250711T090000
DTEND;TZID=America/Toronto:20250711T110000
DTSTAMP:20260421T055850
CREATED:20200504T194032Z
LAST-MODIFIED:20200504T194032Z
UID:5011-1752224400-1752231600@www.naweekofprayer.com
SUMMARY:CMML - Men's Prayer Meeting hosted by Craig Fritchey
DESCRIPTION:Craig Fritchey hosting – Missions\, Evangelism\, Discipleship\, Church-Planting.  Please sign up to pray at: www.CMML.us/prayon2020
URL:https://www.naweekofprayer.com/event/cmml-mens-prayer-meeting-2/2025-07-11/
CATEGORIES:EST,Men's Meetings
ORGANIZER;CN="Craig%20Fritchey":MAILTO:ccfritchey@cmml.us
END:VEVENT
BEGIN:VEVENT
DTSTART;TZID=America/Toronto:20250627T090000
DTEND;TZID=America/Toronto:20250627T110000
DTSTAMP:20260421T055850
CREATED:20200504T194032Z
LAST-MODIFIED:20200504T194032Z
UID:5012-1751014800-1751022000@www.naweekofprayer.com
SUMMARY:CMML - Men's Prayer Meeting hosted by Craig Fritchey
DESCRIPTION:Craig Fritchey hosting – Missions\, Evangelism\, Discipleship\, Church-Planting.  Please sign up to pray at: www.CMML.us/prayon2020
URL:https://www.naweekofprayer.com/event/cmml-mens-prayer-meeting-2/2025-06-27/
CATEGORIES:EST,Men's Meetings
ORGANIZER;CN="Craig%20Fritchey":MAILTO:ccfritchey@cmml.us
END:VEVENT
BEGIN:VEVENT
DTSTART;TZID=America/Toronto:20250613T090000
DTEND;TZID=America/Toronto:20250613T110000
DTSTAMP:20260421T055850
CREATED:20200504T194032Z
LAST-MODIFIED:20200504T194032Z
UID:5007-1749805200-1749812400@www.naweekofprayer.com
SUMMARY:CMML - Men's Prayer Meeting hosted by Craig Fritchey
DESCRIPTION:Craig Fritchey hosting – Missions\, Evangelism\, Discipleship\, Church-Planting.  Please sign up to pray at: www.CMML.us/prayon2020
URL:https://www.naweekofprayer.com/event/cmml-mens-prayer-meeting-2/2025-06-13/
CATEGORIES:EST,Men's Meetings
ORGANIZER;CN="Craig%20Fritchey":MAILTO:ccfritchey@cmml.us
END:VEVENT
BEGIN:VEVENT
DTSTART;TZID=America/Toronto:20250523T090000
DTEND;TZID=America/Toronto:20250523T110000
DTSTAMP:20260421T055850
CREATED:20200504T194032Z
LAST-MODIFIED:20200504T194032Z
UID:5008-1747990800-1747998000@www.naweekofprayer.com
SUMMARY:CMML - Men's Prayer Meeting hosted by Craig Fritchey
DESCRIPTION:Craig Fritchey hosting – Missions\, Evangelism\, Discipleship\, Church-Planting.  Please sign up to pray at: www.CMML.us/prayon2020
URL:https://www.naweekofprayer.com/event/cmml-mens-prayer-meeting-2/2025-05-23/
CATEGORIES:EST,Men's Meetings
ORGANIZER;CN="Craig%20Fritchey":MAILTO:ccfritchey@cmml.us
END:VEVENT
BEGIN:VEVENT
DTSTART;TZID=America/Toronto:20250509T090000
DTEND;TZID=America/Toronto:20250509T110000
DTSTAMP:20260421T055850
CREATED:20200504T194032Z
LAST-MODIFIED:20200504T194032Z
UID:5000-1746781200-1746788400@www.naweekofprayer.com
SUMMARY:CMML - Men's Prayer Meeting hosted by Craig Fritchey
DESCRIPTION:Craig Fritchey hosting – Missions\, Evangelism\, Discipleship\, Church-Planting.  Please sign up to pray at: www.CMML.us/prayon2020
URL:https://www.naweekofprayer.com/event/cmml-mens-prayer-meeting-2/2025-05-09/
CATEGORIES:EST,Men's Meetings
ORGANIZER;CN="Craig%20Fritchey":MAILTO:ccfritchey@cmml.us
END:VEVENT
BEGIN:VEVENT
DTSTART;TZID=America/Toronto:20250425T090000
DTEND;TZID=America/Toronto:20250425T110000
DTSTAMP:20260421T055850
CREATED:20200504T194032Z
LAST-MODIFIED:20200504T194032Z
UID:5001-1745571600-1745578800@www.naweekofprayer.com
SUMMARY:CMML - Men's Prayer Meeting hosted by Craig Fritchey
DESCRIPTION:Craig Fritchey hosting – Missions\, Evangelism\, Discipleship\, Church-Planting.  Please sign up to pray at: www.CMML.us/prayon2020
URL:https://www.naweekofprayer.com/event/cmml-mens-prayer-meeting-2/2025-04-25/
CATEGORIES:EST,Men's Meetings
ORGANIZER;CN="Craig%20Fritchey":MAILTO:ccfritchey@cmml.us
END:VEVENT
BEGIN:VEVENT
DTSTART;TZID=America/Toronto:20250328T090000
DTEND;TZID=America/Toronto:20250328T110000
DTSTAMP:20260421T055850
CREATED:20200504T194032Z
LAST-MODIFIED:20200504T194032Z
UID:4944-1743152400-1743159600@www.naweekofprayer.com
SUMMARY:CMML - Men's Prayer Meeting hosted by Craig Fritchey
DESCRIPTION:Craig Fritchey hosting – Missions\, Evangelism\, Discipleship\, Church-Planting.  Please sign up to pray at: www.CMML.us/prayon2020
URL:https://www.naweekofprayer.com/event/cmml-mens-prayer-meeting-2/2025-03-28/
CATEGORIES:EST,Men's Meetings
ORGANIZER;CN="Craig%20Fritchey":MAILTO:ccfritchey@cmml.us
END:VEVENT
BEGIN:VEVENT
DTSTART;TZID=America/Toronto:20250314T090000
DTEND;TZID=America/Toronto:20250314T110000
DTSTAMP:20260421T055850
CREATED:20200504T194032Z
LAST-MODIFIED:20200504T194032Z
UID:4940-1741942800-1741950000@www.naweekofprayer.com
SUMMARY:CMML - Men's Prayer Meeting hosted by Craig Fritchey
DESCRIPTION:Craig Fritchey hosting – Missions\, Evangelism\, Discipleship\, Church-Planting.  Please sign up to pray at: www.CMML.us/prayon2020
URL:https://www.naweekofprayer.com/event/cmml-mens-prayer-meeting-2/2025-03-14/
CATEGORIES:EST,Men's Meetings
ORGANIZER;CN="Craig%20Fritchey":MAILTO:ccfritchey@cmml.us
END:VEVENT
BEGIN:VEVENT
DTSTART;TZID=America/Toronto:20250228T090000
DTEND;TZID=America/Toronto:20250228T110000
DTSTAMP:20260421T055850
CREATED:20200504T194032Z
LAST-MODIFIED:20200504T194032Z
UID:4943-1740733200-1740740400@www.naweekofprayer.com
SUMMARY:CMML - Men's Prayer Meeting hosted by Craig Fritchey
DESCRIPTION:Craig Fritchey hosting – Missions\, Evangelism\, Discipleship\, Church-Planting.  Please sign up to pray at: www.CMML.us/prayon2020
URL:https://www.naweekofprayer.com/event/cmml-mens-prayer-meeting-2/2025-02-28/
CATEGORIES:EST,Men's Meetings
ORGANIZER;CN="Craig%20Fritchey":MAILTO:ccfritchey@cmml.us
END:VEVENT
BEGIN:VEVENT
DTSTART;TZID=America/Toronto:20250214T090000
DTEND;TZID=America/Toronto:20250214T110000
DTSTAMP:20260421T055850
CREATED:20200504T194032Z
LAST-MODIFIED:20200504T194032Z
UID:4939-1739523600-1739530800@www.naweekofprayer.com
SUMMARY:CMML - Men's Prayer Meeting hosted by Craig Fritchey
DESCRIPTION:Craig Fritchey hosting – Missions\, Evangelism\, Discipleship\, Church-Planting.  Please sign up to pray at: www.CMML.us/prayon2020
URL:https://www.naweekofprayer.com/event/cmml-mens-prayer-meeting-2/2025-02-14/
CATEGORIES:EST,Men's Meetings
ORGANIZER;CN="Craig%20Fritchey":MAILTO:ccfritchey@cmml.us
END:VEVENT
BEGIN:VEVENT
DTSTART;TZID=America/Toronto:20250124T090000
DTEND;TZID=America/Toronto:20250124T110000
DTSTAMP:20260421T055850
CREATED:20200504T194032Z
LAST-MODIFIED:20200504T194032Z
UID:4942-1737709200-1737716400@www.naweekofprayer.com
SUMMARY:CMML - Men's Prayer Meeting hosted by Craig Fritchey
DESCRIPTION:Craig Fritchey hosting – Missions\, Evangelism\, Discipleship\, Church-Planting.  Please sign up to pray at: www.CMML.us/prayon2020
URL:https://www.naweekofprayer.com/event/cmml-mens-prayer-meeting-2/2025-01-24/
CATEGORIES:EST,Men's Meetings
ORGANIZER;CN="Craig%20Fritchey":MAILTO:ccfritchey@cmml.us
END:VEVENT
BEGIN:VEVENT
DTSTART;TZID=America/Toronto:20250110T090000
DTEND;TZID=America/Toronto:20250110T110000
DTSTAMP:20260421T055850
CREATED:20200504T194032Z
LAST-MODIFIED:20200504T194032Z
UID:4938-1736499600-1736506800@www.naweekofprayer.com
SUMMARY:CMML - Men's Prayer Meeting hosted by Craig Fritchey
DESCRIPTION:Craig Fritchey hosting – Missions\, Evangelism\, Discipleship\, Church-Planting.  Please sign up to pray at: www.CMML.us/prayon2020
URL:https://www.naweekofprayer.com/event/cmml-mens-prayer-meeting-2/2025-01-10/
CATEGORIES:EST,Men's Meetings
ORGANIZER;CN="Craig%20Fritchey":MAILTO:ccfritchey@cmml.us
END:VEVENT
BEGIN:VEVENT
DTSTART;TZID=America/Toronto:20241227T090000
DTEND;TZID=America/Toronto:20241227T110000
DTSTAMP:20260421T055850
CREATED:20200504T194032Z
LAST-MODIFIED:20200504T194032Z
UID:4941-1735290000-1735297200@www.naweekofprayer.com
SUMMARY:CMML - Men's Prayer Meeting hosted by Craig Fritchey
DESCRIPTION:Craig Fritchey hosting – Missions\, Evangelism\, Discipleship\, Church-Planting.  Please sign up to pray at: www.CMML.us/prayon2020
URL:https://www.naweekofprayer.com/event/cmml-mens-prayer-meeting-2/2024-12-27/
CATEGORIES:EST,Men's Meetings
ORGANIZER;CN="Craig%20Fritchey":MAILTO:ccfritchey@cmml.us
END:VEVENT
BEGIN:VEVENT
DTSTART;TZID=America/Toronto:20241213T090000
DTEND;TZID=America/Toronto:20241213T110000
DTSTAMP:20260421T055850
CREATED:20200504T194032Z
LAST-MODIFIED:20200504T194032Z
UID:4937-1734080400-1734087600@www.naweekofprayer.com
SUMMARY:CMML - Men's Prayer Meeting hosted by Craig Fritchey
DESCRIPTION:Craig Fritchey hosting – Missions\, Evangelism\, Discipleship\, Church-Planting.  Please sign up to pray at: www.CMML.us/prayon2020
URL:https://www.naweekofprayer.com/event/cmml-mens-prayer-meeting-2/2024-12-13/
CATEGORIES:EST,Men's Meetings
ORGANIZER;CN="Craig%20Fritchey":MAILTO:ccfritchey@cmml.us
END:VEVENT
BEGIN:VEVENT
DTSTART;TZID=America/Toronto:20241108T090000
DTEND;TZID=America/Toronto:20241108T110000
DTSTAMP:20260421T055850
CREATED:20200504T194032Z
LAST-MODIFIED:20200504T194032Z
UID:4817-1731056400-1731063600@www.naweekofprayer.com
SUMMARY:CMML - Men's Prayer Meeting hosted by Craig Fritchey
DESCRIPTION:Craig Fritchey hosting – Missions\, Evangelism\, Discipleship\, Church-Planting.  Please sign up to pray at: www.CMML.us/prayon2020
URL:https://www.naweekofprayer.com/event/cmml-mens-prayer-meeting-2/2024-11-08/
CATEGORIES:EST,Men's Meetings
ORGANIZER;CN="Craig%20Fritchey":MAILTO:ccfritchey@cmml.us
END:VEVENT
BEGIN:VEVENT
DTSTART;TZID=America/Toronto:20241011T090000
DTEND;TZID=America/Toronto:20241011T110000
DTSTAMP:20260421T055850
CREATED:20200504T194032Z
LAST-MODIFIED:20200504T194032Z
UID:4807-1728637200-1728644400@www.naweekofprayer.com
SUMMARY:CMML - Men's Prayer Meeting hosted by Craig Fritchey
DESCRIPTION:Craig Fritchey hosting – Missions\, Evangelism\, Discipleship\, Church-Planting.  Please sign up to pray at: www.CMML.us/prayon2020
URL:https://www.naweekofprayer.com/event/cmml-mens-prayer-meeting-2/2024-10-11/
CATEGORIES:EST,Men's Meetings
ORGANIZER;CN="Craig%20Fritchey":MAILTO:ccfritchey@cmml.us
END:VEVENT
BEGIN:VEVENT
DTSTART;TZID=America/Toronto:20240913T090000
DTEND;TZID=America/Toronto:20240913T110000
DTSTAMP:20260421T055850
CREATED:20200504T194032Z
LAST-MODIFIED:20200504T194032Z
UID:4805-1726218000-1726225200@www.naweekofprayer.com
SUMMARY:CMML - Men's Prayer Meeting hosted by Craig Fritchey
DESCRIPTION:Craig Fritchey hosting – Missions\, Evangelism\, Discipleship\, Church-Planting.  Please sign up to pray at: www.CMML.us/prayon2020
URL:https://www.naweekofprayer.com/event/cmml-mens-prayer-meeting-2/2024-09-13/
CATEGORIES:EST,Men's Meetings
ORGANIZER;CN="Craig%20Fritchey":MAILTO:ccfritchey@cmml.us
END:VEVENT
BEGIN:VEVENT
DTSTART;TZID=America/Toronto:20240809T090000
DTEND;TZID=America/Toronto:20240809T110000
DTSTAMP:20260421T055850
CREATED:20200504T194032Z
LAST-MODIFIED:20200504T194032Z
UID:4785-1723194000-1723201200@www.naweekofprayer.com
SUMMARY:CMML - Men's Prayer Meeting hosted by Craig Fritchey
DESCRIPTION:Craig Fritchey hosting – Missions\, Evangelism\, Discipleship\, Church-Planting.  Please sign up to pray at: www.CMML.us/prayon2020
URL:https://www.naweekofprayer.com/event/cmml-mens-prayer-meeting-2/2024-08-09/
CATEGORIES:EST,Men's Meetings
ORGANIZER;CN="Craig%20Fritchey":MAILTO:ccfritchey@cmml.us
END:VEVENT
BEGIN:VEVENT
DTSTART;TZID=America/Toronto:20240712T090000
DTEND;TZID=America/Toronto:20240712T110000
DTSTAMP:20260421T055850
CREATED:20200504T194032Z
LAST-MODIFIED:20200504T194032Z
UID:4783-1720774800-1720782000@www.naweekofprayer.com
SUMMARY:CMML - Men's Prayer Meeting hosted by Craig Fritchey
DESCRIPTION:Craig Fritchey hosting – Missions\, Evangelism\, Discipleship\, Church-Planting.  Please sign up to pray at: www.CMML.us/prayon2020
URL:https://www.naweekofprayer.com/event/cmml-mens-prayer-meeting-2/2024-07-12/
CATEGORIES:EST,Men's Meetings
ORGANIZER;CN="Craig%20Fritchey":MAILTO:ccfritchey@cmml.us
END:VEVENT
BEGIN:VEVENT
DTSTART;TZID=America/Toronto:20240614T090000
DTEND;TZID=America/Toronto:20240614T110000
DTSTAMP:20260421T055850
CREATED:20200504T194032Z
LAST-MODIFIED:20200504T194032Z
UID:4781-1718355600-1718362800@www.naweekofprayer.com
SUMMARY:CMML - Men's Prayer Meeting hosted by Craig Fritchey
DESCRIPTION:Craig Fritchey hosting – Missions\, Evangelism\, Discipleship\, Church-Planting.  Please sign up to pray at: www.CMML.us/prayon2020
URL:https://www.naweekofprayer.com/event/cmml-mens-prayer-meeting-2/2024-06-14/
CATEGORIES:EST,Men's Meetings
ORGANIZER;CN="Craig%20Fritchey":MAILTO:ccfritchey@cmml.us
END:VEVENT
BEGIN:VEVENT
DTSTART;TZID=America/Toronto:20240510T090000
DTEND;TZID=America/Toronto:20240510T110000
DTSTAMP:20260421T055850
CREATED:20200504T194032Z
LAST-MODIFIED:20200504T194032Z
UID:4779-1715331600-1715338800@www.naweekofprayer.com
SUMMARY:CMML - Men's Prayer Meeting hosted by Craig Fritchey
DESCRIPTION:Craig Fritchey hosting – Missions\, Evangelism\, Discipleship\, Church-Planting.  Please sign up to pray at: www.CMML.us/prayon2020
URL:https://www.naweekofprayer.com/event/cmml-mens-prayer-meeting-2/2024-05-10/
CATEGORIES:EST,Men's Meetings
ORGANIZER;CN="Craig%20Fritchey":MAILTO:ccfritchey@cmml.us
END:VEVENT
BEGIN:VEVENT
DTSTART;TZID=America/Chicago:20230421T100000
DTEND;TZID=America/Chicago:20230421T110000
DTSTAMP:20260421T055850
CREATED:20230404T134411Z
LAST-MODIFIED:20230404T134803Z
UID:4909-1682071200-1682074800@www.naweekofprayer.com
SUMMARY:Men's Prayer Meeting at Hollywood Heights Bible Chapel hosted by Bert Mast
DESCRIPTION:We are hosting a men’s online prayer meeting each day during the week of prayer from 10-11 am CST. Please contact the host for information to participate.
URL:https://www.naweekofprayer.com/event/mens-prayer-meeting-at-hollywood-heights-bible-chapel-hosted-by-bert-mast-copy/2023-04-21/
CATEGORIES:CST,Men's Meetings
ORGANIZER;CN="Bert%20Mast":MAILTO:bertandloismast@hotmail.com
END:VEVENT
BEGIN:VEVENT
DTSTART;TZID=America/Chicago:20230420T100000
DTEND;TZID=America/Chicago:20230420T110000
DTSTAMP:20260421T055850
CREATED:20230404T134336Z
LAST-MODIFIED:20230404T134818Z
UID:4907-1681984800-1681988400@www.naweekofprayer.com
SUMMARY:Men's Prayer Meeting at Hollywood Heights Bible Chapel hosted by Bert Mast
DESCRIPTION:We are hosting a men’s online prayer meeting each day during the week of prayer from 10-11 am CST. Please contact the host for information to participate.
URL:https://www.naweekofprayer.com/event/mens-prayer-meeting-at-hollywood-heights-bible-chapel-hosted-by-bert-mast-4/2023-04-20/
CATEGORIES:CST,Men's Meetings
ORGANIZER;CN="Bert%20Mast":MAILTO:bertandloismast@hotmail.com
END:VEVENT
BEGIN:VEVENT
DTSTART;TZID=America/Chicago:20230419T190000
DTEND;TZID=America/Chicago:20230419T200000
DTSTAMP:20260421T055850
CREATED:20230404T134656Z
LAST-MODIFIED:20230404T134856Z
UID:4914-1681930800-1681934400@www.naweekofprayer.com
SUMMARY:Men's Prayer Meeting at Hollywood Heights Bible Chapel hosted by Bert Mast
DESCRIPTION:We are hosting a men’s online prayer meeting from 7-8 pm CST. Please contact the host for information to participate.
URL:https://www.naweekofprayer.com/event/mens-prayer-meeting-at-hollywood-heights-bible-chapel-hosted-by-bert-mast-6/2023-04-19/
CATEGORIES:CST,Men's Meetings
ORGANIZER;CN="Bert%20Mast":MAILTO:bertandloismast@hotmail.com
END:VEVENT
BEGIN:VEVENT
DTSTART;TZID=America/Chicago:20230419T100000
DTEND;TZID=America/Chicago:20230419T110000
DTSTAMP:20260421T055850
CREATED:20230404T134253Z
LAST-MODIFIED:20230404T134837Z
UID:4905-1681898400-1681902000@www.naweekofprayer.com
SUMMARY:Men's Prayer Meeting at Hollywood Heights Bible Chapel hosted by Bert Mast
DESCRIPTION:We are hosting a men’s online prayer meeting each day during the week of prayer from 10-11 am CST. Please contact the host for information to participate.
URL:https://www.naweekofprayer.com/event/mens-prayer-meeting-at-hollywood-heights-bible-chapel-hosted-by-bert-mast-3/2023-04-19/
CATEGORIES:CST,Men's Meetings
ORGANIZER;CN="Bert%20Mast":MAILTO:bertandloismast@hotmail.com
END:VEVENT
END:VCALENDAR